BEGIN:VCALENDAR
VERSION:2.0
PRODID:-//DIOCESI DI ROMA - ECPv4.6.14.1//NONSGML v1.0//EN
CALSCALE:GREGORIAN
METHOD:PUBLISH
X-WR-CALNAME:DIOCESI DI ROMA
X-ORIGINAL-URL:https://www.diocesidiroma.it
X-WR-CALDESC:Eventi per DIOCESI DI ROMA
BEGIN:VEVENT
DTSTART;TZID=Europe/Rome:20250107T100000
DTEND;TZID=Europe/Rome:20250107T110000
DTSTAMP:20260421T024253
CREATED:20250102T080624Z
LAST-MODIFIED:20250102T080624Z
UID:32912-1736244000-1736247600@www.diocesidiroma.it
SUMMARY:Commissione Pantheon
DESCRIPTION:Commissione Pantheon \n
URL:https://www.diocesidiroma.it/event/commissione-pantheon-2/
CATEGORIES:Vicario Generale
END:VEVENT
END:VCALENDAR