BEGIN:VCALENDAR
VERSION:2.0
PRODID:-//DIOCESI DI ROMA - ECPv4.6.14.1//NONSGML v1.0//EN
CALSCALE:GREGORIAN
METHOD:PUBLISH
X-WR-CALNAME:DIOCESI DI ROMA
X-ORIGINAL-URL:https://www.diocesidiroma.it
X-WR-CALDESC:Eventi per DIOCESI DI ROMA
BEGIN:VEVENT
DTSTART;TZID=Europe/Rome:20250908T110000
DTEND;TZID=Europe/Rome:20250908T110000
DTSTAMP:20260423T064144
CREATED:20250905T074140Z
LAST-MODIFIED:20250905T074140Z
UID:36732-1757329200-1757329200@www.diocesidiroma.it
SUMMARY:Con alcuni ragazzi del Quarticciolo visita a Palazzo Madama
DESCRIPTION:Con alcuni ragazzi del Quarticciolo visita a Palazzo Madama \n
URL:https://www.diocesidiroma.it/event/con-alcuni-ragazzi-del-quarticciolo-visita-a-palazzo-madama/
CATEGORIES:Vicario Generale
END:VEVENT
END:VCALENDAR