BEGIN:VCALENDAR
VERSION:2.0
PRODID:-//DIOCESI DI ROMA - ECPv4.6.14.1//NONSGML v1.0//EN
CALSCALE:GREGORIAN
METHOD:PUBLISH
X-WR-CALNAME:DIOCESI DI ROMA
X-ORIGINAL-URL:https://www.diocesidiroma.it
X-WR-CALDESC:Eventi per DIOCESI DI ROMA
BEGIN:VEVENT
DTSTART;TZID=Europe/Rome:20231207T180000
DTEND;TZID=Europe/Rome:20231207T180000
DTSTAMP:20260421T112400
CREATED:20231201T104110Z
LAST-MODIFIED:20231201T104346Z
UID:28061-1701972000-1701972000@www.diocesidiroma.it
SUMMARY:Concelebra la Messa nella basilica di Santa Maria Maggiore in occasione dell’80° anniversario della nascita del Movimento dei Focolari
DESCRIPTION:Concelebra la Messa nella basilica di Santa Maria Maggiore in occasione dell’80° anniversario della nascita del Movimento dei Focolari \n
URL:https://www.diocesidiroma.it/event/concelebra-la-messa-nella-basilica-di-santa-maria-maggiore-in-occasione-dell80-anniversario-della-nascita-del-movimento-dei-focolari/
CATEGORIES:NON USARE --- Agenda del Vicario
END:VEVENT
END:VCALENDAR