BEGIN:VCALENDAR
VERSION:2.0
PRODID:-//DIOCESI DI ROMA - ECPv4.6.14.1//NONSGML v1.0//EN
CALSCALE:GREGORIAN
METHOD:PUBLISH
X-WR-CALNAME:DIOCESI DI ROMA
X-ORIGINAL-URL:https://www.diocesidiroma.it
X-WR-CALDESC:Eventi per DIOCESI DI ROMA
BEGIN:VEVENT
DTSTART;TZID=Europe/Rome:20181014T100000
DTEND;TZID=Europe/Rome:20181014T100000
DTSTAMP:20260423T055301
CREATED:20181005T071917Z
LAST-MODIFIED:20181005T071917Z
UID:4854-1539511200-1539511200@www.diocesidiroma.it
SUMMARY:Concelebra sul sagrato della basilica vaticana la Messa presieduta dal Santo Padre Francesco in occasione della canonizzazione di alcuni Beati
DESCRIPTION:Concelebra sul sagrato della basilica vaticana la Messa presieduta dal Santo Padre Francesco in occasione della canonizzazione di alcuni Beati.  \n
URL:https://www.diocesidiroma.it/event/concelebra-sul-sagrato-della-basilica-vaticana-la-messa-presieduta-dal-santo-padre-francesco-in-occasione-della-canonizzazione-di-alcuni-beati/
CATEGORIES:NON USARE --- Agenda del Vicario
END:VEVENT
END:VCALENDAR