BEGIN:VCALENDAR
VERSION:2.0
PRODID:-//DIOCESI DI ROMA - ECPv4.6.14.1//NONSGML v1.0//EN
CALSCALE:GREGORIAN
METHOD:PUBLISH
X-WR-CALNAME:DIOCESI DI ROMA
X-ORIGINAL-URL:https://www.diocesidiroma.it
X-WR-CALDESC:Eventi per DIOCESI DI ROMA
BEGIN:VEVENT
DTSTART;VALUE=DATE:20241031
DTEND;VALUE=DATE:20241101
DTSTAMP:20260425T102744
CREATED:20241025T070702Z
LAST-MODIFIED:20241030T085349Z
UID:31523-1730332800-1730419199@www.diocesidiroma.it
SUMMARY:Conclude il mese missionario nella parrocchia di San Frumenzio
DESCRIPTION:Conclude il mese missionario nella parrocchia di San Frumenzio \n
URL:https://www.diocesidiroma.it/event/conclude-il-mese-missionario-nella-parrocchia-di-san-frumenzio/
CATEGORIES:Vicario Generale
END:VEVENT
END:VCALENDAR