BEGIN:VCALENDAR
VERSION:2.0
PRODID:-//DIOCESI DI ROMA - ECPv4.6.14.1//NONSGML v1.0//EN
CALSCALE:GREGORIAN
METHOD:PUBLISH
X-WR-CALNAME:DIOCESI DI ROMA
X-ORIGINAL-URL:https://www.diocesidiroma.it
X-WR-CALDESC:Eventi per DIOCESI DI ROMA
BEGIN:VEVENT
DTSTART;TZID=Europe/Rome:20231126T000000
DTEND;TZID=Europe/Rome:20231126T000000
DTSTAMP:20260422T070108
CREATED:20231006T092429Z
LAST-MODIFIED:20231006T092516Z
UID:27568-1700956800-1700956800@www.diocesidiroma.it
SUMMARY:Conclusione della tappa diocesana della GMG con Santa Messa
DESCRIPTION:Conclusione della tappa diocesana della GMG con Santa Messa \n
URL:https://www.diocesidiroma.it/event/conclusione-della-tappa-diocesana-della-gmg-con-santa-messa/
CATEGORIES:In Diocesi
END:VEVENT
END:VCALENDAR