BEGIN:VCALENDAR
VERSION:2.0
PRODID:-//DIOCESI DI ROMA - ECPv4.6.14.1//NONSGML v1.0//EN
CALSCALE:GREGORIAN
METHOD:PUBLISH
X-WR-CALNAME:DIOCESI DI ROMA
X-ORIGINAL-URL:https://www.diocesidiroma.it
X-WR-CALDESC:Eventi per DIOCESI DI ROMA
BEGIN:VEVENT
DTSTART;VALUE=DATE:20260620
DTEND;VALUE=DATE:20260621
DTSTAMP:20260421T014452
CREATED:20251030T122956Z
LAST-MODIFIED:20251030T122956Z
UID:38305-1781913600-1781999999@www.diocesidiroma.it
SUMMARY:Conclusione percorso formativo per Adoratori e Santa Messa al Divino Amore
DESCRIPTION:Conclusione percorso formativo per Adoratori e Santa Messa al Divino Amore \n
URL:https://www.diocesidiroma.it/event/conclusione-percorso-formativo-per-adoratori-e-santa-messa-al-divino-amore/
CATEGORIES:In Diocesi,Iniziative degli Uffici
END:VEVENT
END:VCALENDAR