BEGIN:VCALENDAR
VERSION:2.0
PRODID:-//DIOCESI DI ROMA - ECPv4.6.14.1//NONSGML v1.0//EN
CALSCALE:GREGORIAN
METHOD:PUBLISH
X-WR-CALNAME:DIOCESI DI ROMA
X-ORIGINAL-URL:https://www.diocesidiroma.it
X-WR-CALDESC:Eventi per DIOCESI DI ROMA
BEGIN:VEVENT
DTSTART;TZID=Europe/Rome:20260316T093000
DTEND;TZID=Europe/Rome:20260316T150000
DTSTAMP:20260421T070538
CREATED:20260311T145849Z
LAST-MODIFIED:20260311T151446Z
UID:40449-1773653400-1773673200@www.diocesidiroma.it
SUMMARY:Conferenza Episcopale Laziale
DESCRIPTION:Conferenza Episcopale Laziale \n
URL:https://www.diocesidiroma.it/event/conferenza-episcopale-laziale-3/
CATEGORIES:Vicario Generale
END:VEVENT
END:VCALENDAR