BEGIN:VCALENDAR
VERSION:2.0
PRODID:-//DIOCESI DI ROMA - ECPv4.6.14.1//NONSGML v1.0//EN
CALSCALE:GREGORIAN
METHOD:PUBLISH
X-WR-CALNAME:DIOCESI DI ROMA
X-ORIGINAL-URL:https://www.diocesidiroma.it
X-WR-CALDESC:Eventi per DIOCESI DI ROMA
BEGIN:VEVENT
DTSTART;TZID=Europe/Rome:20251130T150000
DTEND;TZID=Europe/Rome:20251130T170000
DTSTAMP:20260421T075314
CREATED:20250910T123606Z
LAST-MODIFIED:20250910T123617Z
UID:37026-1764514800-1764522000@www.diocesidiroma.it
SUMMARY:Consegna del Credo per i catecumeni del II anno
DESCRIPTION:Consegna del Credo per i catecumeni del II anno presso la Basilica di S. Giovanni in Laterano. (Uff. per il Catecumenato) \n
URL:https://www.diocesidiroma.it/event/consegna-del-credo-per-i-catecumeni-del-ii-anno/
CATEGORIES:Iniziative degli Uffici
END:VEVENT
END:VCALENDAR