BEGIN:VCALENDAR
VERSION:2.0
PRODID:-//DIOCESI DI ROMA - ECPv4.6.14.1//NONSGML v1.0//EN
CALSCALE:GREGORIAN
METHOD:PUBLISH
X-WR-CALNAME:DIOCESI DI ROMA
X-ORIGINAL-URL:https://www.diocesidiroma.it
X-WR-CALDESC:Eventi per DIOCESI DI ROMA
BEGIN:VEVENT
DTSTART;TZID=Europe/Rome:20190930T000000
DTEND;TZID=Europe/Rome:20190930T000000
DTSTAMP:20260423T105114
CREATED:20190916T081958Z
LAST-MODIFIED:20190916T082020Z
UID:8306-1569801600-1569801600@www.diocesidiroma.it
SUMMARY:Consiglio dei prefetti
DESCRIPTION:Consiglio dei prefetti \n
URL:https://www.diocesidiroma.it/event/consiglio-dei-prefetti-10/
CATEGORIES:In Diocesi
END:VEVENT
END:VCALENDAR