BEGIN:VCALENDAR
VERSION:2.0
PRODID:-//DIOCESI DI ROMA - ECPv4.6.14.1//NONSGML v1.0//EN
CALSCALE:GREGORIAN
METHOD:PUBLISH
X-WR-CALNAME:DIOCESI DI ROMA
X-ORIGINAL-URL:https://www.diocesidiroma.it
X-WR-CALDESC:Eventi per DIOCESI DI ROMA
BEGIN:VEVENT
DTSTART;VALUE=DATE:20171204
DTEND;VALUE=DATE:20171205
DTSTAMP:20260425T164306
CREATED:20171228T120149Z
LAST-MODIFIED:20171228T120149Z
UID:455-1512345600-1512431999@www.diocesidiroma.it
SUMMARY:Consiglio dei Prefetti
DESCRIPTION:
URL:https://www.diocesidiroma.it/event/consiglio-dei-prefetti-2/
CATEGORIES:In Diocesi
END:VEVENT
END:VCALENDAR