BEGIN:VCALENDAR
VERSION:2.0
PRODID:-//DIOCESI DI ROMA - ECPv4.6.14.1//NONSGML v1.0//EN
CALSCALE:GREGORIAN
METHOD:PUBLISH
X-WR-CALNAME:DIOCESI DI ROMA
X-ORIGINAL-URL:https://www.diocesidiroma.it
X-WR-CALDESC:Eventi per DIOCESI DI ROMA
BEGIN:VEVENT
DTSTART;VALUE=DATE:20240606
DTEND;VALUE=DATE:20240607
DTSTAMP:20260423T200914
CREATED:20240424T135453Z
LAST-MODIFIED:20240424T135453Z
UID:29670-1717632000-1717718399@www.diocesidiroma.it
SUMMARY:Consiglio dei Prefetti 
DESCRIPTION:Consiglio dei Prefetti \n
URL:https://www.diocesidiroma.it/event/consiglio-dei-prefetti-20/2024-06-06/
CATEGORIES:In Diocesi
END:VEVENT
END:VCALENDAR