BEGIN:VCALENDAR
VERSION:2.0
PRODID:-//DIOCESI DI ROMA - ECPv4.6.14.1//NONSGML v1.0//EN
CALSCALE:GREGORIAN
METHOD:PUBLISH
X-WR-CALNAME:DIOCESI DI ROMA
X-ORIGINAL-URL:https://www.diocesidiroma.it
X-WR-CALDESC:Eventi per DIOCESI DI ROMA
BEGIN:VEVENT
DTSTART;VALUE=DATE:20190211
DTEND;VALUE=DATE:20190212
DTSTAMP:20260421T040948
CREATED:20181010T065849Z
LAST-MODIFIED:20190129T111120Z
UID:4938-1549843200-1549929599@www.diocesidiroma.it
SUMMARY:Consiglio dei prefetti
DESCRIPTION:Consiglio dei prefetti. \n
URL:https://www.diocesidiroma.it/event/consiglio-dei-prefetti-8/
CATEGORIES:In Diocesi
END:VEVENT
END:VCALENDAR