BEGIN:VCALENDAR
VERSION:2.0
PRODID:-//DIOCESI DI ROMA - ECPv4.6.14.1//NONSGML v1.0//EN
CALSCALE:GREGORIAN
METHOD:PUBLISH
X-WR-CALNAME:DIOCESI DI ROMA
X-ORIGINAL-URL:https://www.diocesidiroma.it
X-WR-CALDESC:Eventi per DIOCESI DI ROMA
BEGIN:VEVENT
DTSTART;TZID=Europe/Rome:20190401T000000
DTEND;TZID=Europe/Rome:20190401T000000
DTSTAMP:20260420T181931
CREATED:20181011T084525Z
LAST-MODIFIED:20181011T084525Z
UID:5047-1554076800-1554076800@www.diocesidiroma.it
SUMMARY:Consiglio dei prefetti
DESCRIPTION:Consiglio dei prefetti. \n
URL:https://www.diocesidiroma.it/event/consiglio-dei-prefetti-9/
CATEGORIES:In Diocesi
END:VEVENT
END:VCALENDAR