BEGIN:VCALENDAR
VERSION:2.0
PRODID:-//DIOCESI DI ROMA - ECPv4.6.14.1//NONSGML v1.0//EN
CALSCALE:GREGORIAN
METHOD:PUBLISH
X-WR-CALNAME:DIOCESI DI ROMA
X-ORIGINAL-URL:https://www.diocesidiroma.it
X-WR-CALDESC:Eventi per DIOCESI DI ROMA
BEGIN:VEVENT
DTSTART;VALUE=DATE:20171002
DTEND;VALUE=DATE:20171003
DTSTAMP:20260424T150448
CREATED:20171228T112509Z
LAST-MODIFIED:20171228T112509Z
UID:328-1506902400-1506988799@www.diocesidiroma.it
SUMMARY:Consiglio dei Prefetti
DESCRIPTION:
URL:https://www.diocesidiroma.it/event/consiglio-dei-prefetti/
CATEGORIES:In Diocesi
END:VEVENT
END:VCALENDAR