BEGIN:VCALENDAR
VERSION:2.0
PRODID:-//DIOCESI DI ROMA - ECPv4.6.14.1//NONSGML v1.0//EN
CALSCALE:GREGORIAN
METHOD:PUBLISH
X-WR-CALNAME:DIOCESI DI ROMA
X-ORIGINAL-URL:https://www.diocesidiroma.it
X-WR-CALDESC:Eventi per DIOCESI DI ROMA
BEGIN:VEVENT
DTSTART;TZID=Europe/Rome:20250407T123000
DTEND;TZID=Europe/Rome:20250407T140000
DTSTAMP:20260424T204856
CREATED:20250404T093041Z
LAST-MODIFIED:20250404T101652Z
UID:34956-1744029000-1744034400@www.diocesidiroma.it
SUMMARY:Consiglio di Istituto dell’ ISSR “Ecclesia Mater”
DESCRIPTION:Consiglio di Istituto dell’ ISSR “Ecclesia Mater” \n
URL:https://www.diocesidiroma.it/event/consiglio-di-istituto-dell-issc-ecclesia-mater/
CATEGORIES:Vicario Generale
END:VEVENT
END:VCALENDAR