BEGIN:VCALENDAR
VERSION:2.0
PRODID:-//DIOCESI DI ROMA - ECPv4.6.14.1//NONSGML v1.0//EN
CALSCALE:GREGORIAN
METHOD:PUBLISH
X-WR-CALNAME:DIOCESI DI ROMA
X-ORIGINAL-URL:https://www.diocesidiroma.it
X-WR-CALDESC:Eventi per DIOCESI DI ROMA
BEGIN:VEVENT
DTSTART;TZID=Europe/Rome:20251128T100000
DTEND;TZID=Europe/Rome:20251128T130000
DTSTAMP:20260423T190105
CREATED:20251119T150525Z
LAST-MODIFIED:20251119T150525Z
UID:38693-1764324000-1764334800@www.diocesidiroma.it
SUMMARY:Consiglio diocesano affari economici
DESCRIPTION:Consiglio diocesano affari economici \n
URL:https://www.diocesidiroma.it/event/consiglio-diocesano-affari-economici-2/
CATEGORIES:Vicario Generale
END:VEVENT
END:VCALENDAR