BEGIN:VCALENDAR
VERSION:2.0
PRODID:-//DIOCESI DI ROMA - ECPv4.6.14.1//NONSGML v1.0//EN
CALSCALE:GREGORIAN
METHOD:PUBLISH
X-WR-CALNAME:DIOCESI DI ROMA
X-ORIGINAL-URL:https://www.diocesidiroma.it
X-WR-CALDESC:Eventi per DIOCESI DI ROMA
BEGIN:VEVENT
DTSTART;TZID=Europe/Rome:20260319T100000
DTEND;TZID=Europe/Rome:20260319T120000
DTSTAMP:20260421T034747
CREATED:20260311T150716Z
LAST-MODIFIED:20260311T150716Z
UID:40467-1773914400-1773921600@www.diocesidiroma.it
SUMMARY:Consiglio Diocesano Affari Economici
DESCRIPTION:Consiglio Diocesano Affari Economici \n
URL:https://www.diocesidiroma.it/event/consiglio-diocesano-affari-economici-4/
CATEGORIES:Vicario Generale
END:VEVENT
END:VCALENDAR