BEGIN:VCALENDAR
VERSION:2.0
PRODID:-//DIOCESI DI ROMA - ECPv4.6.14.1//NONSGML v1.0//EN
CALSCALE:GREGORIAN
METHOD:PUBLISH
X-WR-CALNAME:DIOCESI DI ROMA
X-ORIGINAL-URL:https://www.diocesidiroma.it
X-WR-CALDESC:Eventi per DIOCESI DI ROMA
BEGIN:VEVENT
DTSTART;TZID=Europe/Rome:20251217T140000
DTEND;TZID=Europe/Rome:20251217T150000
DTSTAMP:20260422T034317
CREATED:20251212T134123Z
LAST-MODIFIED:20251212T134123Z
UID:39061-1765980000-1765983600@www.diocesidiroma.it
SUMMARY:Consiglio diocesano per gli Affari economici
DESCRIPTION:Consiglio diocesano per gli Affari economici \n
URL:https://www.diocesidiroma.it/event/consiglio-diocesano-per-gli-affari-economici-3/
CATEGORIES:Vicario Generale
END:VEVENT
END:VCALENDAR