BEGIN:VCALENDAR
VERSION:2.0
PRODID:-//DIOCESI DI ROMA - ECPv4.6.14.1//NONSGML v1.0//EN
CALSCALE:GREGORIAN
METHOD:PUBLISH
X-WR-CALNAME:DIOCESI DI ROMA
X-ORIGINAL-URL:https://www.diocesidiroma.it
X-WR-CALDESC:Eventi per DIOCESI DI ROMA
BEGIN:VEVENT
DTSTART;TZID=Europe/Rome:20250613T110000
DTEND;TZID=Europe/Rome:20250613T130000
DTSTAMP:20260423T200932
CREATED:20250605T094433Z
LAST-MODIFIED:20250605T094433Z
UID:35983-1749812400-1749819600@www.diocesidiroma.it
SUMMARY:Consiglio Diocesano per gli Affari Economici
DESCRIPTION:Consiglio Diocesano per gli Affari Economici \n
URL:https://www.diocesidiroma.it/event/consiglio-diocesano-per-gli-affari-economici/
CATEGORIES:Vicario Generale
END:VEVENT
END:VCALENDAR