BEGIN:VCALENDAR
VERSION:2.0
PRODID:-//DIOCESI DI ROMA - ECPv4.6.14.1//NONSGML v1.0//EN
CALSCALE:GREGORIAN
METHOD:PUBLISH
X-WR-CALNAME:DIOCESI DI ROMA
X-ORIGINAL-URL:https://www.diocesidiroma.it
X-WR-CALDESC:Eventi per DIOCESI DI ROMA
BEGIN:VEVENT
DTSTART;TZID=Europe/Rome:20251114T150000
DTEND;TZID=Europe/Rome:20251114T150000
DTSTAMP:20260423T102628
CREATED:20251107T111522Z
LAST-MODIFIED:20251107T111522Z
UID:38463-1763132400-1763132400@www.diocesidiroma.it
SUMMARY:Consiglio d’istituto dell’Ecclesia Mater
DESCRIPTION:Consiglio d’istituto dell’Ecclesia Mater  \n
URL:https://www.diocesidiroma.it/event/consiglio-distituto-dellecclesia-mater/
CATEGORIES:Vicario Generale
END:VEVENT
END:VCALENDAR