BEGIN:VCALENDAR
VERSION:2.0
PRODID:-//DIOCESI DI ROMA - ECPv4.6.14.1//NONSGML v1.0//EN
CALSCALE:GREGORIAN
METHOD:PUBLISH
X-WR-CALNAME:DIOCESI DI ROMA
X-ORIGINAL-URL:https://www.diocesidiroma.it
X-WR-CALDESC:Eventi per DIOCESI DI ROMA
BEGIN:VEVENT
DTSTART;TZID=Europe/Rome:20250228T090000
DTEND;TZID=Europe/Rome:20250228T110000
DTSTAMP:20260421T041319
CREATED:20250221T074435Z
LAST-MODIFIED:20250221T074435Z
UID:34040-1740733200-1740740400@www.diocesidiroma.it
SUMMARY:Consiglio Episcopale
DESCRIPTION:Consiglio Episcopale \n
URL:https://www.diocesidiroma.it/event/consiglio-episcopale-18/
CATEGORIES:Vicario Generale
END:VEVENT
END:VCALENDAR