BEGIN:VCALENDAR
VERSION:2.0
PRODID:-//DIOCESI DI ROMA - ECPv4.6.14.1//NONSGML v1.0//EN
CALSCALE:GREGORIAN
METHOD:PUBLISH
X-WR-CALNAME:DIOCESI DI ROMA
X-ORIGINAL-URL:https://www.diocesidiroma.it
X-WR-CALDESC:Eventi per DIOCESI DI ROMA
BEGIN:VEVENT
DTSTART;TZID=Europe/Rome:20250321T090000
DTEND;TZID=Europe/Rome:20250321T110000
DTSTAMP:20260420T200707
CREATED:20250314T110053Z
LAST-MODIFIED:20250314T110053Z
UID:34482-1742547600-1742554800@www.diocesidiroma.it
SUMMARY:Consiglio episcopale
DESCRIPTION:Consiglio episcopale \n
URL:https://www.diocesidiroma.it/event/consiglio-episcopale-22/
CATEGORIES:Vicario Generale
END:VEVENT
END:VCALENDAR