BEGIN:VCALENDAR
VERSION:2.0
PRODID:-//DIOCESI DI ROMA - ECPv4.6.14.1//NONSGML v1.0//EN
CALSCALE:GREGORIAN
METHOD:PUBLISH
X-WR-CALNAME:DIOCESI DI ROMA
X-ORIGINAL-URL:https://www.diocesidiroma.it
X-WR-CALDESC:Eventi per DIOCESI DI ROMA
BEGIN:VEVENT
DTSTART;TZID=Europe/Rome:20250331T083000
DTEND;TZID=Europe/Rome:20250331T100000
DTSTAMP:20260424T193159
CREATED:20250327T105438Z
LAST-MODIFIED:20250327T105438Z
UID:34819-1743409800-1743415200@www.diocesidiroma.it
SUMMARY:Consiglio episcopale
DESCRIPTION:Consiglio episcopale \n
URL:https://www.diocesidiroma.it/event/consiglio-episcopale-25/
CATEGORIES:Vicario Generale
END:VEVENT
END:VCALENDAR