BEGIN:VCALENDAR
VERSION:2.0
PRODID:-//DIOCESI DI ROMA - ECPv4.6.14.1//NONSGML v1.0//EN
CALSCALE:GREGORIAN
METHOD:PUBLISH
X-WR-CALNAME:DIOCESI DI ROMA
X-ORIGINAL-URL:https://www.diocesidiroma.it
X-WR-CALDESC:Eventi per DIOCESI DI ROMA
BEGIN:VEVENT
DTSTART;TZID=Europe/Rome:20250404T090000
DTEND;TZID=Europe/Rome:20250404T110000
DTSTAMP:20260424T155443
CREATED:20250327T110346Z
LAST-MODIFIED:20250327T110346Z
UID:34839-1743757200-1743764400@www.diocesidiroma.it
SUMMARY:Consiglio episcopale
DESCRIPTION:Consiglio episcopale \n
URL:https://www.diocesidiroma.it/event/consiglio-episcopale-26/
CATEGORIES:Vicario Generale
END:VEVENT
END:VCALENDAR