BEGIN:VCALENDAR
VERSION:2.0
PRODID:-//DIOCESI DI ROMA - ECPv4.6.14.1//NONSGML v1.0//EN
CALSCALE:GREGORIAN
METHOD:PUBLISH
X-WR-CALNAME:DIOCESI DI ROMA
X-ORIGINAL-URL:https://www.diocesidiroma.it
X-WR-CALDESC:Eventi per DIOCESI DI ROMA
BEGIN:VEVENT
DTSTART;TZID=Europe/Rome:20250519T083000
DTEND;TZID=Europe/Rome:20250519T093000
DTSTAMP:20260421T024346
CREATED:20250516T114357Z
LAST-MODIFIED:20250516T114357Z
UID:35663-1747643400-1747647000@www.diocesidiroma.it
SUMMARY:Consiglio Episcopale
DESCRIPTION:Consiglio Episcopale \n
URL:https://www.diocesidiroma.it/event/consiglio-episcopale-32/
CATEGORIES:Vicario Generale
END:VEVENT
END:VCALENDAR