BEGIN:VCALENDAR
VERSION:2.0
PRODID:-//DIOCESI DI ROMA - ECPv4.6.14.1//NONSGML v1.0//EN
CALSCALE:GREGORIAN
METHOD:PUBLISH
X-WR-CALNAME:DIOCESI DI ROMA
X-ORIGINAL-URL:https://www.diocesidiroma.it
X-WR-CALDESC:Eventi per DIOCESI DI ROMA
BEGIN:VEVENT
DTSTART;TZID=Europe/Rome:20251010T083000
DTEND;TZID=Europe/Rome:20251010T100000
DTSTAMP:20260421T055207
CREATED:20251003T110018Z
LAST-MODIFIED:20251003T110037Z
UID:37644-1760085000-1760090400@www.diocesidiroma.it
SUMMARY:Consiglio episcopale
DESCRIPTION:Consiglio episcopale \n
URL:https://www.diocesidiroma.it/event/consiglio-episcopale-45/
CATEGORIES:Vicario Generale
END:VEVENT
END:VCALENDAR