BEGIN:VCALENDAR
VERSION:2.0
PRODID:-//DIOCESI DI ROMA - ECPv4.6.14.1//NONSGML v1.0//EN
CALSCALE:GREGORIAN
METHOD:PUBLISH
X-WR-CALNAME:DIOCESI DI ROMA
X-ORIGINAL-URL:https://www.diocesidiroma.it
X-WR-CALDESC:Eventi per DIOCESI DI ROMA
BEGIN:VEVENT
DTSTART;TZID=Europe/Rome:20251013T083000
DTEND;TZID=Europe/Rome:20251013T100000
DTSTAMP:20260421T235531
CREATED:20251010T063921Z
LAST-MODIFIED:20251010T063921Z
UID:37709-1760344200-1760349600@www.diocesidiroma.it
SUMMARY:Consiglio Episcopale
DESCRIPTION:Consiglio Episcopale \n
URL:https://www.diocesidiroma.it/event/consiglio-episcopale-46/
CATEGORIES:Vicario Generale
END:VEVENT
END:VCALENDAR