BEGIN:VCALENDAR
VERSION:2.0
PRODID:-//DIOCESI DI ROMA - ECPv4.6.14.1//NONSGML v1.0//EN
CALSCALE:GREGORIAN
METHOD:PUBLISH
X-WR-CALNAME:DIOCESI DI ROMA
X-ORIGINAL-URL:https://www.diocesidiroma.it
X-WR-CALDESC:Eventi per DIOCESI DI ROMA
BEGIN:VEVENT
DTSTART;TZID=Europe/Rome:20251017T083000
DTEND;TZID=Europe/Rome:20251017T103000
DTSTAMP:20260420T201649
CREATED:20251010T065923Z
LAST-MODIFIED:20251010T065923Z
UID:37738-1760689800-1760697000@www.diocesidiroma.it
SUMMARY:Consiglio Episcopale
DESCRIPTION:Consiglio Episcopale \n
URL:https://www.diocesidiroma.it/event/consiglio-episcopale-47/
CATEGORIES:Vicario Generale
END:VEVENT
END:VCALENDAR