BEGIN:VCALENDAR
VERSION:2.0
PRODID:-//DIOCESI DI ROMA - ECPv4.6.14.1//NONSGML v1.0//EN
CALSCALE:GREGORIAN
METHOD:PUBLISH
X-WR-CALNAME:DIOCESI DI ROMA
X-ORIGINAL-URL:https://www.diocesidiroma.it
X-WR-CALDESC:Eventi per DIOCESI DI ROMA
BEGIN:VEVENT
DTSTART;TZID=Europe/Rome:20251027T083000
DTEND;TZID=Europe/Rome:20251027T103000
DTSTAMP:20260423T115821
CREATED:20251024T101454Z
LAST-MODIFIED:20251024T101454Z
UID:38154-1761553800-1761561000@www.diocesidiroma.it
SUMMARY:Consiglio Episcopale
DESCRIPTION:Consiglio Episcopale \n
URL:https://www.diocesidiroma.it/event/consiglio-episcopale-49/
CATEGORIES:Vicario Generale
END:VEVENT
END:VCALENDAR