BEGIN:VCALENDAR
VERSION:2.0
PRODID:-//DIOCESI DI ROMA - ECPv4.6.14.1//NONSGML v1.0//EN
CALSCALE:GREGORIAN
METHOD:PUBLISH
X-WR-CALNAME:DIOCESI DI ROMA
X-ORIGINAL-URL:https://www.diocesidiroma.it
X-WR-CALDESC:Eventi per DIOCESI DI ROMA
BEGIN:VEVENT
DTSTART;TZID=Europe/Rome:20251114T080000
DTEND;TZID=Europe/Rome:20251114T100000
DTSTAMP:20260423T181606
CREATED:20251107T111314Z
LAST-MODIFIED:20251107T111314Z
UID:38459-1763107200-1763114400@www.diocesidiroma.it
SUMMARY:Consiglio episcopale
DESCRIPTION:Consiglio episcopale \n
URL:https://www.diocesidiroma.it/event/consiglio-episcopale-52/
CATEGORIES:Vicario Generale
END:VEVENT
END:VCALENDAR