BEGIN:VCALENDAR
VERSION:2.0
PRODID:-//DIOCESI DI ROMA - ECPv4.6.14.1//NONSGML v1.0//EN
CALSCALE:GREGORIAN
METHOD:PUBLISH
X-WR-CALNAME:DIOCESI DI ROMA
X-ORIGINAL-URL:https://www.diocesidiroma.it
X-WR-CALDESC:Eventi per DIOCESI DI ROMA
BEGIN:VEVENT
DTSTART;TZID=Europe/Rome:20251128T083000
DTEND;TZID=Europe/Rome:20251128T100000
DTSTAMP:20260423T181605
CREATED:20251119T150446Z
LAST-MODIFIED:20251119T150446Z
UID:38691-1764318600-1764324000@www.diocesidiroma.it
SUMMARY:Consiglio episcopale
DESCRIPTION:Consiglio episcopale \n
URL:https://www.diocesidiroma.it/event/consiglio-episcopale-53/
CATEGORIES:Vicario Generale
END:VEVENT
END:VCALENDAR