BEGIN:VCALENDAR
VERSION:2.0
PRODID:-//DIOCESI DI ROMA - ECPv4.6.14.1//NONSGML v1.0//EN
CALSCALE:GREGORIAN
METHOD:PUBLISH
X-WR-CALNAME:DIOCESI DI ROMA
X-ORIGINAL-URL:https://www.diocesidiroma.it
X-WR-CALDESC:Eventi per DIOCESI DI ROMA
BEGIN:VEVENT
DTSTART;TZID=Europe/Rome:20251212T083000
DTEND;TZID=Europe/Rome:20251212T110000
DTSTAMP:20260422T231400
CREATED:20251206T122452Z
LAST-MODIFIED:20251206T122452Z
UID:38974-1765528200-1765537200@www.diocesidiroma.it
SUMMARY:Consiglio Episcopale
DESCRIPTION:Consiglio Episcopale \n
URL:https://www.diocesidiroma.it/event/consiglio-episcopale-56/
CATEGORIES:Vicario Generale
END:VEVENT
END:VCALENDAR