BEGIN:VCALENDAR
VERSION:2.0
PRODID:-//DIOCESI DI ROMA - ECPv4.6.14.1//NONSGML v1.0//EN
CALSCALE:GREGORIAN
METHOD:PUBLISH
X-WR-CALNAME:DIOCESI DI ROMA
X-ORIGINAL-URL:https://www.diocesidiroma.it
X-WR-CALDESC:Eventi per DIOCESI DI ROMA
BEGIN:VEVENT
DTSTART;TZID=Europe/Rome:20250110T090000
DTEND;TZID=Europe/Rome:20250110T110000
DTSTAMP:20260424T175537
CREATED:20250102T082119Z
LAST-MODIFIED:20250102T082119Z
UID:32932-1736499600-1736506800@www.diocesidiroma.it
SUMMARY:Consiglio episcopale
DESCRIPTION:Consiglio episcopale \n
URL:https://www.diocesidiroma.it/event/consiglio-episcopale-6/
CATEGORIES:Vicario Generale
END:VEVENT
END:VCALENDAR