BEGIN:VCALENDAR
VERSION:2.0
PRODID:-//DIOCESI DI ROMA - ECPv4.6.14.1//NONSGML v1.0//EN
CALSCALE:GREGORIAN
METHOD:PUBLISH
X-WR-CALNAME:DIOCESI DI ROMA
X-ORIGINAL-URL:https://www.diocesidiroma.it
X-WR-CALDESC:Eventi per DIOCESI DI ROMA
BEGIN:VEVENT
DTSTART;TZID=Europe/Rome:20260216T083000
DTEND;TZID=Europe/Rome:20260216T103000
DTSTAMP:20260421T211029
CREATED:20260213T080547Z
LAST-MODIFIED:20260213T080547Z
UID:39908-1771230600-1771237800@www.diocesidiroma.it
SUMMARY:Consiglio episcopale
DESCRIPTION:Consiglio episcopale \n
URL:https://www.diocesidiroma.it/event/consiglio-episcopale-63/
CATEGORIES:Vicario Generale
END:VEVENT
END:VCALENDAR