BEGIN:VCALENDAR
VERSION:2.0
PRODID:-//DIOCESI DI ROMA - ECPv4.6.14.1//NONSGML v1.0//EN
CALSCALE:GREGORIAN
METHOD:PUBLISH
X-WR-CALNAME:DIOCESI DI ROMA
X-ORIGINAL-URL:https://www.diocesidiroma.it
X-WR-CALDESC:Eventi per DIOCESI DI ROMA
BEGIN:VEVENT
DTSTART;TZID=Europe/Rome:20260223T083000
DTEND;TZID=Europe/Rome:20260223T083000
DTSTAMP:20260421T010444
CREATED:20260219T073503Z
LAST-MODIFIED:20260219T073503Z
UID:40016-1771835400-1771835400@www.diocesidiroma.it
SUMMARY:Consiglio Episcopale
DESCRIPTION:Consiglio Episcopale \n
URL:https://www.diocesidiroma.it/event/consiglio-episcopale-65/
CATEGORIES:Vicario Generale
END:VEVENT
END:VCALENDAR