BEGIN:VCALENDAR
VERSION:2.0
PRODID:-//DIOCESI DI ROMA - ECPv4.6.14.1//NONSGML v1.0//EN
CALSCALE:GREGORIAN
METHOD:PUBLISH
X-WR-CALNAME:DIOCESI DI ROMA
X-ORIGINAL-URL:https://www.diocesidiroma.it
X-WR-CALDESC:Eventi per DIOCESI DI ROMA
BEGIN:VEVENT
DTSTART;TZID=Europe/Rome:20260306T083000
DTEND;TZID=Europe/Rome:20260306T100000
DTSTAMP:20260421T052456
CREATED:20260226T110200Z
LAST-MODIFIED:20260226T110200Z
UID:40219-1772785800-1772791200@www.diocesidiroma.it
SUMMARY:Consiglio Episcopale
DESCRIPTION:Consiglio Episcopale \n
URL:https://www.diocesidiroma.it/event/consiglio-episcopale-67/
CATEGORIES:Vicario Generale
END:VEVENT
END:VCALENDAR