BEGIN:VCALENDAR
VERSION:2.0
PRODID:-//DIOCESI DI ROMA - ECPv4.6.14.1//NONSGML v1.0//EN
CALSCALE:GREGORIAN
METHOD:PUBLISH
X-WR-CALNAME:DIOCESI DI ROMA
X-ORIGINAL-URL:https://www.diocesidiroma.it
X-WR-CALDESC:Eventi per DIOCESI DI ROMA
BEGIN:VEVENT
DTSTART;TZID=Europe/Rome:20260327T083000
DTEND;TZID=Europe/Rome:20260327T100000
DTSTAMP:20260421T052458
CREATED:20260320T113130Z
LAST-MODIFIED:20260320T113130Z
UID:40648-1774600200-1774605600@www.diocesidiroma.it
SUMMARY:Consiglio episcopale
DESCRIPTION:Consiglio episcopale  \n
URL:https://www.diocesidiroma.it/event/consiglio-episcopale-71/
CATEGORIES:Vicario Generale
END:VEVENT
END:VCALENDAR