BEGIN:VCALENDAR
VERSION:2.0
PRODID:-//DIOCESI DI ROMA - ECPv4.6.14.1//NONSGML v1.0//EN
CALSCALE:GREGORIAN
METHOD:PUBLISH
X-WR-CALNAME:DIOCESI DI ROMA
X-ORIGINAL-URL:https://www.diocesidiroma.it
X-WR-CALDESC:Eventi per DIOCESI DI ROMA
BEGIN:VEVENT
DTSTART;TZID=Europe/Rome:20241220T083000
DTEND;TZID=Europe/Rome:20241220T083000
DTSTAMP:20260422T231122
CREATED:20241216T075540Z
LAST-MODIFIED:20241216T075540Z
UID:32588-1734683400-1734683400@www.diocesidiroma.it
SUMMARY:Consiglio Episcopale (allargato alla Commissione che studia la revisione dei confini delle Prefetture con l’aiuto di alcuni esperti)
DESCRIPTION:Consiglio Episcopale (allargato alla Commissione che studia la revisione dei confini delle Prefetture con l’aiuto di alcuni esperti) \n
URL:https://www.diocesidiroma.it/event/consiglio-episcopale-allargato-alla-commissione-che-studia-la-revisione-dei-confini-delle-prefetture-con-laiuto-di-alcuni-esperti/
CATEGORIES:Vicario Generale
END:VEVENT
END:VCALENDAR