BEGIN:VCALENDAR
VERSION:2.0
PRODID:-//DIOCESI DI ROMA - ECPv4.6.14.1//NONSGML v1.0//EN
CALSCALE:GREGORIAN
METHOD:PUBLISH
X-WR-CALNAME:DIOCESI DI ROMA
X-ORIGINAL-URL:https://www.diocesidiroma.it
X-WR-CALDESC:Eventi per DIOCESI DI ROMA
BEGIN:VEVENT
DTSTART;TZID=Europe/Rome:20260209T083000
DTEND;TZID=Europe/Rome:20260209T110000
DTSTAMP:20260424T160545
CREATED:20260209T072657Z
LAST-MODIFIED:20260209T072657Z
UID:39802-1770625800-1770634800@www.diocesidiroma.it
SUMMARY:Consiglio Episcopale e Commissione per i diaconi permanenti
DESCRIPTION:Consiglio Episcopale e Commissione per i diaconi permanenti \n
URL:https://www.diocesidiroma.it/event/consiglio-episcopale-e-commissione-per-i-diaconi-permanenti/
CATEGORIES:Vicario Generale
END:VEVENT
END:VCALENDAR