BEGIN:VCALENDAR
VERSION:2.0
PRODID:-//DIOCESI DI ROMA - ECPv4.6.14.1//NONSGML v1.0//EN
CALSCALE:GREGORIAN
METHOD:PUBLISH
X-WR-CALNAME:DIOCESI DI ROMA
X-ORIGINAL-URL:https://www.diocesidiroma.it
X-WR-CALDESC:Eventi per DIOCESI DI ROMA
BEGIN:VEVENT
DTSTART;TZID=Europe/Rome:20260213T083000
DTEND;TZID=Europe/Rome:20260213T110000
DTSTAMP:20260421T224848
CREATED:20260209T073804Z
LAST-MODIFIED:20260209T073804Z
UID:39828-1770971400-1770980400@www.diocesidiroma.it
SUMMARY:Consiglio Episcopale e Commissione per le ordinazioni sacerdotali
DESCRIPTION:Consiglio Episcopale e Commissione per le ordinazioni sacerdotali \n
URL:https://www.diocesidiroma.it/event/consiglio-episcopale-e-commissione-per-le-ordinazioni-sacerdotali/
CATEGORIES:Vicario Generale
END:VEVENT
END:VCALENDAR