BEGIN:VCALENDAR
VERSION:2.0
PRODID:-//DIOCESI DI ROMA - ECPv4.6.14.1//NONSGML v1.0//EN
CALSCALE:GREGORIAN
METHOD:PUBLISH
X-WR-CALNAME:DIOCESI DI ROMA
X-ORIGINAL-URL:https://www.diocesidiroma.it
X-WR-CALDESC:Eventi per DIOCESI DI ROMA
BEGIN:VEVENT
DTSTART;TZID=Europe/Rome:20260324T090000
DTEND;TZID=Europe/Rome:20260324T190000
DTSTAMP:20260420T235455
CREATED:20260320T112200Z
LAST-MODIFIED:20260320T112200Z
UID:40626-1774342800-1774378800@www.diocesidiroma.it
SUMMARY:Consiglio episcopale permanente della Cei
DESCRIPTION:Consiglio episcopale permanente della Cei \n
URL:https://www.diocesidiroma.it/event/consiglio-episcopale-permanente-della-cei-5/
CATEGORIES:Vicario Generale
END:VEVENT
END:VCALENDAR