BEGIN:VCALENDAR
VERSION:2.0
PRODID:-//DIOCESI DI ROMA - ECPv4.6.14.1//NONSGML v1.0//EN
CALSCALE:GREGORIAN
METHOD:PUBLISH
X-WR-CALNAME:DIOCESI DI ROMA
X-ORIGINAL-URL:https://www.diocesidiroma.it
X-WR-CALDESC:Eventi per DIOCESI DI ROMA
BEGIN:VEVENT
DTSTART;TZID=Europe/Rome:20260325T090000
DTEND;TZID=Europe/Rome:20260325T123000
DTSTAMP:20260421T070537
CREATED:20260320T112315Z
LAST-MODIFIED:20260320T112454Z
UID:40630-1774429200-1774441800@www.diocesidiroma.it
SUMMARY:Consiglio episcopale permanente della Cei
DESCRIPTION:Consiglio episcopale permanente della Cei \n
URL:https://www.diocesidiroma.it/event/consiglio-episcopale-permanente-della-cei-6/
CATEGORIES:Vicario Generale
END:VEVENT
END:VCALENDAR