BEGIN:VCALENDAR
VERSION:2.0
PRODID:-//DIOCESI DI ROMA - ECPv4.6.14.1//NONSGML v1.0//EN
CALSCALE:GREGORIAN
METHOD:PUBLISH
X-WR-CALNAME:DIOCESI DI ROMA
X-ORIGINAL-URL:https://www.diocesidiroma.it
X-WR-CALDESC:Eventi per DIOCESI DI ROMA
BEGIN:VEVENT
DTSTART;TZID=Europe/Rome:20250108T140000
DTEND;TZID=Europe/Rome:20250108T160000
DTSTAMP:20260421T023502
CREATED:20250102T080903Z
LAST-MODIFIED:20250102T080903Z
UID:32920-1736344800-1736352000@www.diocesidiroma.it
SUMMARY:Consiglio Istituto ISSR Ecclesia Mater
DESCRIPTION:Consiglio Istituto ISSR Ecclesia Mater \n
URL:https://www.diocesidiroma.it/event/consiglio-istituto-issr-ecclesia-mater/
CATEGORIES:Vicario Generale
END:VEVENT
END:VCALENDAR