BEGIN:VCALENDAR
VERSION:2.0
PRODID:-//DIOCESI DI ROMA - ECPv4.6.14.1//NONSGML v1.0//EN
CALSCALE:GREGORIAN
METHOD:PUBLISH
X-WR-CALNAME:DIOCESI DI ROMA
X-ORIGINAL-URL:https://www.diocesidiroma.it
X-WR-CALDESC:Eventi per DIOCESI DI ROMA
BEGIN:VEVENT
DTSTART;TZID=Europe/Rome:20250312T083000
DTEND;TZID=Europe/Rome:20250312T123000
DTSTAMP:20260424T220655
CREATED:20250307T122504Z
LAST-MODIFIED:20250307T122504Z
UID:34324-1741768200-1741782600@www.diocesidiroma.it
SUMMARY:Consiglio Permanente della Cei
DESCRIPTION:Consiglio Permanente della Cei \n
URL:https://www.diocesidiroma.it/event/consiglio-permanente-della-cei-5/2025-03-12/
CATEGORIES:Vicario Generale
END:VEVENT
END:VCALENDAR