BEGIN:VCALENDAR
VERSION:2.0
PRODID:-//DIOCESI DI ROMA - ECPv4.6.14.1//NONSGML v1.0//EN
CALSCALE:GREGORIAN
METHOD:PUBLISH
X-WR-CALNAME:DIOCESI DI ROMA
X-ORIGINAL-URL:https://www.diocesidiroma.it
X-WR-CALDESC:Eventi per DIOCESI DI ROMA
BEGIN:VEVENT
DTSTART;TZID=Europe/Rome:20221024T000000
DTEND;TZID=Europe/Rome:20221024T000000
DTSTAMP:20260424T195951
CREATED:20221013T111827Z
LAST-MODIFIED:20221013T111827Z
UID:23345-1666569600-1666569600@www.diocesidiroma.it
SUMMARY:Consiglio Presbiterale
DESCRIPTION:Consiglio Presbiterale \n
URL:https://www.diocesidiroma.it/event/consiglio-presbiterale-10/
CATEGORIES:In Diocesi
END:VEVENT
END:VCALENDAR