BEGIN:VCALENDAR
VERSION:2.0
PRODID:-//DIOCESI DI ROMA - ECPv4.6.14.1//NONSGML v1.0//EN
CALSCALE:GREGORIAN
METHOD:PUBLISH
X-WR-CALNAME:DIOCESI DI ROMA
X-ORIGINAL-URL:https://www.diocesidiroma.it
X-WR-CALDESC:Eventi per DIOCESI DI ROMA
BEGIN:VEVENT
DTSTART;TZID=Europe/Rome:20250324T100000
DTEND;TZID=Europe/Rome:20250324T120000
DTSTAMP:20260425T023642
CREATED:20250321T085941Z
LAST-MODIFIED:20250321T085941Z
UID:34583-1742810400-1742817600@www.diocesidiroma.it
SUMMARY:Consiglio presbiterale
DESCRIPTION:Consiglio presbiterale \n
URL:https://www.diocesidiroma.it/event/consiglio-presbiterale-14/
CATEGORIES:Vicario Generale
END:VEVENT
END:VCALENDAR