BEGIN:VCALENDAR
VERSION:2.0
PRODID:-//DIOCESI DI ROMA - ECPv4.6.14.1//NONSGML v1.0//EN
CALSCALE:GREGORIAN
METHOD:PUBLISH
X-WR-CALNAME:DIOCESI DI ROMA
X-ORIGINAL-URL:https://www.diocesidiroma.it
X-WR-CALDESC:Eventi per DIOCESI DI ROMA
BEGIN:VEVENT
DTSTART;TZID=Europe/Rome:20260126T100000
DTEND;TZID=Europe/Rome:20260126T120000
DTSTAMP:20260422T070239
CREATED:20260123T100016Z
LAST-MODIFIED:20260123T100016Z
UID:39595-1769421600-1769428800@www.diocesidiroma.it
SUMMARY:Consiglio presbiterale
DESCRIPTION:Consiglio presbiterale \n
URL:https://www.diocesidiroma.it/event/consiglio-presbiterale-15/
CATEGORIES:Vicario Generale
END:VEVENT
END:VCALENDAR