BEGIN:VCALENDAR
VERSION:2.0
PRODID:-//DIOCESI DI ROMA - ECPv4.6.14.1//NONSGML v1.0//EN
CALSCALE:GREGORIAN
METHOD:PUBLISH
X-WR-CALNAME:DIOCESI DI ROMA
X-ORIGINAL-URL:https://www.diocesidiroma.it
X-WR-CALDESC:Eventi per DIOCESI DI ROMA
BEGIN:VEVENT
DTSTART;VALUE=DATE:20260126
DTEND;VALUE=DATE:20260127
DTSTAMP:20260422T083506
CREATED:20250919T075402Z
LAST-MODIFIED:20250919T075402Z
UID:37309-1769385600-1769471999@www.diocesidiroma.it
SUMMARY:Consiglio presbiterale
DESCRIPTION:Consiglio presbiterale \n
URL:https://www.diocesidiroma.it/event/consiglio-presbiterale-17/
CATEGORIES:In Diocesi
END:VEVENT
END:VCALENDAR