BEGIN:VCALENDAR
VERSION:2.0
PRODID:-//DIOCESI DI ROMA - ECPv4.6.14.1//NONSGML v1.0//EN
CALSCALE:GREGORIAN
METHOD:PUBLISH
X-WR-CALNAME:DIOCESI DI ROMA
X-ORIGINAL-URL:https://www.diocesidiroma.it
X-WR-CALDESC:Eventi per DIOCESI DI ROMA
BEGIN:VEVENT
DTSTART;TZID=Europe/Rome:20190304T000000
DTEND;TZID=Europe/Rome:20190304T000000
DTSTAMP:20260421T041211
CREATED:20181011T074403Z
LAST-MODIFIED:20181011T074403Z
UID:4986-1551657600-1551657600@www.diocesidiroma.it
SUMMARY:Consiglio presbiterale
DESCRIPTION:Consiglio presbiterale. \n
URL:https://www.diocesidiroma.it/event/consiglio-presbiterale-5/
CATEGORIES:In Diocesi
END:VEVENT
END:VCALENDAR